BEGIN:VCALENDAR
VERSION:2.0
PRODID:-//wp-events-plugin.com//7.2.3.1//EN
TZID:Europe/Paris
X-WR-TIMEZONE:Europe/Paris
BEGIN:VEVENT
UID:474@dyspraxies.fr
DTSTART;TZID=Europe/Paris:20240406T170000
DTEND;TZID=Europe/Paris:20240406T234500
DTSTAMP:20240308T192929Z
URL:https://www.dyspraxies.fr/events/ag-dfd-79-et-soiree-dansante/
SUMMARY:AG DFD 79 et soirée dansante
DESCRIPTION:DFD 79 - AG des 10 ans  suivie d'une soirée dansante\nSamedi 
 6 avril 2024\n\n17h-19h Assemblée Générale DFD 79\nouvert à  tout pub
 lic\n\n19h30-24h Apéritif\, repas\, karaoké et soirée dansante.\nSur r
 éservation.\ngratuit pour les adhérents de DFD 79\, Participation de 5 
 € pour les non adhérents.\nProgramme complet :\n
ATTACH;FMTTYPE=image/jpeg:https://www.dyspraxies.fr/wp-content/uploads/202
 4/03/10-ans-DFD79.jpg
CATEGORIES:Rendez-vous en Nouvelle Aquitaine
LOCATION:Salles des associations\,  3 rue de l'Hometrou  Sainte-Pezenne \, 
 Niort\, Nouvelle-Aquitaine\, 79000\, Deux-Sèvres\, France
GEO:46.341333;-0.474358
X-APPLE-STRUCTURED-LOCATION;VALUE=URI;X-ADDRESS= 3 rue de l'Hometrou  Saint
 e-Pezenne \, Niort\, Nouvelle-Aquitaine\, 79000\, Deux-Sèvres\, France;X-
 APPLE-RADIUS=100;X-TITLE=Salles des associations:geo:46.341333,-0.474358
END:VEVENT
BEGIN:VTIMEZONE
TZID:Europe/Paris
X-LIC-LOCATION:Europe/Paris
BEGIN:DAYLIGHT
DTSTART:20240331T030000
TZOFFSETFROM:+0100
TZOFFSETTO:+0200
TZNAME:CEST
END:DAYLIGHT
END:VTIMEZONE
END:VCALENDAR