BEGIN:VCALENDAR
VERSION:2.0
PRODID:-//wp-events-plugin.com//7.2.3.1//EN
TZID:Europe/Paris
X-WR-TIMEZONE:Europe/Paris
BEGIN:VEVENT
UID:67@dyspraxies.fr
DTSTART;TZID=Europe/Paris:20170426T143000
DTEND;TZID=Europe/Paris:20170426T170000
DTSTAMP:20170426T104521Z
URL:https://www.dyspraxies.fr/events/conference-cafe-dys-istres/
SUMMARY:Conférence-café DYS - ISTRES
DESCRIPTION:\n\nQuestions de repérage DYS ou TDAH\,\n\nDiscussions\, écha
 nges et partages d'informations et documents pratiques.. rejoignez nous de
 main à Istres !
CATEGORIES:Rendez-vous en PACA
LOCATION:Salle LCR  Annexe Prépaou\, Place de la Marie\, ISTRES\, PACA\, 1
 3800\, PACA\, France
GEO:43.516956;4.989796000000069
X-APPLE-STRUCTURED-LOCATION;VALUE=URI;X-ADDRESS=Place de la Marie\, ISTRES\
 , PACA\, 13800\, PACA\, France;X-APPLE-RADIUS=100;X-TITLE=Salle LCR  Annex
 e Prépaou:geo:43.516956,4.989796000000069
END:VEVENT
BEGIN:VTIMEZONE
TZID:Europe/Paris
X-LIC-LOCATION:Europe/Paris
BEGIN:DAYLIGHT
DTSTART:20170326T030000
TZOFFSETFROM:+0100
TZOFFSETTO:+0200
TZNAME:CEST
END:DAYLIGHT
END:VTIMEZONE
END:VCALENDAR