BEGIN:VCALENDAR
VERSION:2.0
PRODID:-//wp-events-plugin.com//7.2.3.1//EN
TZID:Europe/Paris
X-WR-TIMEZONE:Europe/Paris
BEGIN:VEVENT
UID:592@dyspraxies.fr
DTSTART;TZID=Europe/Paris:20260211T180000
DTEND;TZID=Europe/Paris:20260211T200000
DTSTAMP:20260205T134105Z
URL:https://www.dyspraxies.fr/events/dfd-59-62-apero-dys/
SUMMARY:DFD 59-62 : Apéro dys !
DESCRIPTION:L'apéro DYS ! \nC'est un moment convivial pour se poser et par
 tager.\nLieu: maison des associations de Lille\n12 rue Jean Bart\ndate: me
 rcredi 11 /02/2026\nhoraires: 18h-20h\ngratuit sur inscription : dfd59@dys
 praxies.fr  ou SMS 0633967595\n
ATTACH;FMTTYPE=image/jpeg:https://www.dyspraxies.fr/wp-content/uploads/202
 6/02/AperoDYS_1102.png
CATEGORIES:Rendez-vous dans les Hauts de France
LOCATION:Maison des associations de Lille\, 27 rue Jean Bart\, Lille\, 5900
 0\, France
GEO:50.627922;3.065548
X-APPLE-STRUCTURED-LOCATION;VALUE=URI;X-ADDRESS=27 rue Jean Bart\, Lille\, 
 59000\, France;X-APPLE-RADIUS=100;X-TITLE=Maison des associations de Lille
 :geo:50.627922,3.065548
END:VEVENT
BEGIN:VTIMEZONE
TZID:Europe/Paris
X-LIC-LOCATION:Europe/Paris
BEGIN:STANDARD
DTSTART:20251026T020000
TZOFFSETFROM:+0200
TZOFFSETTO:+0100
TZNAME:CET
END:STANDARD
END:VTIMEZONE
END:VCALENDAR