BEGIN:VCALENDAR
VERSION:2.0
PRODID:-//wp-events-plugin.com//7.2.3.1//EN
TZID:Europe/Paris
X-WR-TIMEZONE:Europe/Paris
BEGIN:VEVENT
UID:444@dyspraxies.fr
DTSTART;TZID=Europe/Paris:20231014T090000
DTEND;TZID=Europe/Paris:20231014T173000
DTSTAMP:20230927T173337Z
URL:https://www.dyspraxies.fr/events/dfd-59-62-journee-eleves-a-besoins-ed
 ucatifs-particuliers/
SUMMARY:DFD 59-62 : Journée élèves à besoins éducatifs particuliers
DESCRIPTION:Notre association DFD 59 62 vous invite à nous rejoindre le sa
 medi 14 octobre dès 9h au 31 rue Pierre Legrand 5900 Lille.\n\nprogramme
  :https://bit.ly/46t4qF4\n\nVous pourrez en vous inscrivant sur ce lien 
 :https://bit.ly/4575LAy avoir accès à plusieurs conférences de votre c
 hoix et nous rencontrer sur notre stand de 12h à 16h30.\n\nPour informati
 ons complémentaires : dfd62@dyspraxies.fr  tel 06.33.96.75.95\n\n
ATTACH;FMTTYPE=image/jpeg:https://www.dyspraxies.fr/wp-content/uploads/202
 3/09/DFD59-Canope-EBEP.png
CATEGORIES:Rendez-vous dans les Hauts de France
LOCATION:Canopé Lille\, 31 rue Pierre Legrand\, Lille\, Hauts-de-France\, 
 59000\, Nord\, France
GEO:50.632373;3.085999
X-APPLE-STRUCTURED-LOCATION;VALUE=URI;X-ADDRESS=31 rue Pierre Legrand\, Lil
 le\, Hauts-de-France\, 59000\, Nord\, France;X-APPLE-RADIUS=100;X-TITLE=Ca
 nopé Lille:geo:50.632373,3.085999
END:VEVENT
BEGIN:VTIMEZONE
TZID:Europe/Paris
X-LIC-LOCATION:Europe/Paris
BEGIN:DAYLIGHT
DTSTART:20230326T030000
TZOFFSETFROM:+0100
TZOFFSETTO:+0200
TZNAME:CEST
END:DAYLIGHT
END:VTIMEZONE
END:VCALENDAR