BEGIN:VCALENDAR
VERSION:2.0
PRODID:-//wp-events-plugin.com//7.2.3.1//EN
TZID:Europe/Paris
X-WR-TIMEZONE:Europe/Paris
BEGIN:VEVENT
UID:61@dyspraxies.fr
DTSTART;TZID=Europe/Paris:20170504T200000
DTEND;TZID=Europe/Paris:20170504T200000
DTSTAMP:20170409T124948Z
URL:https://www.dyspraxies.fr/events/dfd29-les-dys-qui-sont-ils/
SUMMARY:DFD29 Les Dys qui sont-ils ?
DESCRIPTION:[pdf-embedder url="http://www.dyspraxies.fr/wp-content/uploads/
 2017/04/DFD29_Affiche_Lannilis_04-05-2017.pdf"]
ATTACH;FMTTYPE=image/jpeg:https://www.dyspraxies.fr/wp-content/uploads/201
 7/04/DFD29_Affiche_Lannilis_04-05-2017-scaled.jpg
CATEGORIES:Rendez-vous en Bretagne
LOCATION:Salle Yves Nicolas\, espace Lapoutroie\, LANNILIS\, 29870\, France
GEO:48.569479;-4.520186999999964
X-APPLE-STRUCTURED-LOCATION;VALUE=URI;X-ADDRESS=espace Lapoutroie\, LANNILI
 S\, 29870\, France;X-APPLE-RADIUS=100;X-TITLE=Salle Yves Nicolas:geo:48.56
 9479,-4.520186999999964
END:VEVENT
BEGIN:VTIMEZONE
TZID:Europe/Paris
X-LIC-LOCATION:Europe/Paris
BEGIN:DAYLIGHT
DTSTART:20170326T030000
TZOFFSETFROM:+0100
TZOFFSETTO:+0200
TZNAME:CEST
END:DAYLIGHT
END:VTIMEZONE
END:VCALENDAR