BEGIN:VCALENDAR
VERSION:2.0
PRODID:-//wp-events-plugin.com//7.2.3.1//EN
TZID:Europe/Paris
X-WR-TIMEZONE:Europe/Paris
BEGIN:VEVENT
UID:135@dyspraxies.fr
DTSTART;TZID=Europe/Paris:20180119T183000
DTEND;TZID=Europe/Paris:20180119T183000
DTSTAMP:20191104T105036Z
URL:https://www.dyspraxies.fr/events/dfd51-conference-dys-a-sezanne/
SUMMARY:DFD51 Conférence DYS à Sézanne
DESCRIPTION:
CATEGORIES:Rendez-vous dans le GRAND EST
LOCATION:Cité scolaire la fontaine du Vé\, Avenue Fontaine du Vé\, Séza
 nne\, 51120\, France
GEO:48.7257349;3.717414700000063
X-APPLE-STRUCTURED-LOCATION;VALUE=URI;X-ADDRESS=Avenue Fontaine du Vé\, S
 ézanne\, 51120\, France;X-APPLE-RADIUS=100;X-TITLE=Cité scolaire la font
 aine du Vé:geo:48.7257349,3.717414700000063
END:VEVENT
BEGIN:VTIMEZONE
TZID:Europe/Paris
X-LIC-LOCATION:Europe/Paris
BEGIN:STANDARD
DTSTART:20171029T020000
TZOFFSETFROM:+0200
TZOFFSETTO:+0100
TZNAME:CET
END:STANDARD
END:VTIMEZONE
END:VCALENDAR