BEGIN:VCALENDAR
VERSION:2.0
PRODID:-//wp-events-plugin.com//7.2.3.1//EN
TZID:Europe/Paris
X-WR-TIMEZONE:Europe/Paris
BEGIN:VEVENT
UID:160@dyspraxies.fr
DTSTART;TZID=Europe/Paris:20180320T193000
DTEND;TZID=Europe/Paris:20180320T213000
DTSTAMP:20180319T221709Z
URL:https://www.dyspraxies.fr/events/dfd64-apero-dys-a-bizanos/
SUMMARY:DFD64 Apéro DYS à Bizanos
DESCRIPTION:
CATEGORIES:Rendez-vous en Nouvelle Aquitaine
LOCATION:Centre Socio culturel de Bizanos\, 1 rue du 8 mai\, Bizanos\, 6432
 0\, France
GEO:43.2924097;-0.344860199999971
X-APPLE-STRUCTURED-LOCATION;VALUE=URI;X-ADDRESS=1 rue du 8 mai\, Bizanos\, 
 64320\, France;X-APPLE-RADIUS=100;X-TITLE=Centre Socio culturel de Bizanos
 :geo:43.2924097,-0.344860199999971
END:VEVENT
BEGIN:VTIMEZONE
TZID:Europe/Paris
X-LIC-LOCATION:Europe/Paris
BEGIN:STANDARD
DTSTART:20171029T020000
TZOFFSETFROM:+0200
TZOFFSETTO:+0100
TZNAME:CET
END:STANDARD
END:VTIMEZONE
END:VCALENDAR