BEGIN:VCALENDAR
VERSION:2.0
PRODID:-//wp-events-plugin.com//7.2.3.1//EN
TZID:Europe/Paris
X-WR-TIMEZONE:Europe/Paris
BEGIN:VEVENT
UID:560@dyspraxies.fr
DTSTART;TZID=Europe/Paris:20250610T190000
DTEND;TZID=Europe/Paris:20250610T214500
DTSTAMP:20250606T082614Z
URL:https://www.dyspraxies.fr/events/evenement-cantoo-scribe/
SUMMARY:Évènement CANTOO SCRIBE
DESCRIPTION:\n\n\n\n\nVenez découvrir un logiciel facilitant l'accompagnem
 ent des élèves à besoins éducatifs particuliers. Vous y découvrirez n
 otamment le logiciel CANTOO SCRIBE\, un outil qui facilite grandement la p
 rise de note sur ordinateur.\n\n\nRendez-vous au 27 rue Jean Bart à Lille
  !\n\n\n\n\n\n\n\n\n\n\n\n\n\n\n\n\n\n\n\n\n\n\n\n\n\n\n\n\n\n\n\n\n\n
CATEGORIES:Rendez-vous dans les Hauts de France
END:VEVENT
BEGIN:VTIMEZONE
TZID:Europe/Paris
X-LIC-LOCATION:Europe/Paris
BEGIN:DAYLIGHT
DTSTART:20250330T030000
TZOFFSETFROM:+0100
TZOFFSETTO:+0200
TZNAME:CEST
END:DAYLIGHT
END:VTIMEZONE
END:VCALENDAR