BEGIN:VCALENDAR
VERSION:2.0
PRODID:-//wp-events-plugin.com//7.2.3.1//EN
TZID:Europe/Paris
X-WR-TIMEZONE:Europe/Paris
BEGIN:VEVENT
UID:259@dyspraxies.fr
DTSTART;TZID=Europe/Paris:20200129T140000
DTEND;TZID=Europe/Paris:20200129T160000
DTSTAMP:20191211T154332Z
URL:https://www.dyspraxies.fr/events/idf-77-dyslexie-dyspraxie-dyscalculie
 /
SUMMARY:IDF 77 : Dyslexie\, dyspraxie\, dyscalculie ….
DESCRIPTION:Et si on parlait des troubles DYS ?\n\nRéunion organisée par 
 le Pôle Autonomie Territorial de Fontainebleau
CATEGORIES:Rendez-vous en Ile de France
LOCATION:Salle Marquis de Roys\, Route de Saint Mammès\, Morêt Loing et O
 rvanne\, 77250 \, France
GEO:48.376302;2.819951
X-APPLE-STRUCTURED-LOCATION;VALUE=URI;X-ADDRESS=Route de Saint Mammès\, Mo
 rêt Loing et Orvanne\, 77250 \, France;X-APPLE-RADIUS=100;X-TITLE=Salle M
 arquis de Roys:geo:48.376302,2.819951
END:VEVENT
BEGIN:VTIMEZONE
TZID:Europe/Paris
X-LIC-LOCATION:Europe/Paris
BEGIN:STANDARD
DTSTART:20191027T020000
TZOFFSETFROM:+0200
TZOFFSETTO:+0100
TZNAME:CET
END:STANDARD
END:VTIMEZONE
END:VCALENDAR