BEGIN:VCALENDAR
VERSION:2.0
PRODID:-//wp-events-plugin.com//7.2.3.1//EN
TZID:Europe/Paris
X-WR-TIMEZONE:Europe/Paris
BEGIN:VEVENT
UID:50@dyspraxies.fr
DTSTART;TZID=Europe/Paris:20170401T090000
DTEND;TZID=Europe/Paris:20170401T173000
DTSTAMP:20170221T085520Z
URL:https://www.dyspraxies.fr/events/journee-dys-a-anglet/
SUMMARY:Journée Dys à Anglet
DESCRIPTION:Les troubles DYS à ANGLET :\n\nJournée avec Conférences et A
 teliers\n\nRéservation conseillée (déjeuner à 12€ sur réservation)\
 n\n\n\n
ATTACH;FMTTYPE=image/jpeg:https://www.dyspraxies.fr/wp-content/uploads/201
 7/02/DFD64-Journée-2017-04-01-aff-scaled.jpg
CATEGORIES:Rendez-vous en Nouvelle Aquitaine
LOCATION:Maison pour tous\, 6 rue Albert Le Barillier\, Anglet\, 64600\, Fr
 ance
GEO:43.4829739;-1.5131916000000274
X-APPLE-STRUCTURED-LOCATION;VALUE=URI;X-ADDRESS=6 rue Albert Le Barillier\,
  Anglet\, 64600\, France;X-APPLE-RADIUS=100;X-TITLE=Maison pour tous:geo:4
 3.4829739,-1.5131916000000274
END:VEVENT
BEGIN:VTIMEZONE
TZID:Europe/Paris
X-LIC-LOCATION:Europe/Paris
BEGIN:DAYLIGHT
DTSTART:20170326T030000
TZOFFSETFROM:+0100
TZOFFSETTO:+0200
TZNAME:CEST
END:DAYLIGHT
END:VTIMEZONE
END:VCALENDAR