BEGIN:VCALENDAR
VERSION:2.0
PRODID:-//wp-events-plugin.com//7.2.3.1//EN
TZID:Europe/Paris
X-WR-TIMEZONE:Europe/Paris
BEGIN:VEVENT
UID:254@dyspraxies.fr
DTSTART;TZID=Europe/Paris:20191112T190000
DTEND;TZID=Europe/Paris:20191112T220000
DTSTAMP:20191110T211620Z
URL:https://www.dyspraxies.fr/events/permanence/
SUMMARY:DFD 72 : Permanence
DESCRIPTION:
ATTACH;FMTTYPE=image/jpeg:https://www.dyspraxies.fr/wp-content/uploads/201
 9/11/permanence-dfd-72-le-mardi-12-novembre-2019site.jpg
CATEGORIES:Rendez-vous en Pays de la Loire
LOCATION:Maison de Quartier Charles Trénet\, 67 rue Alfred de Vigny\, Le M
 ans\, France\, 72000\, Pays de Loire\, France
GEO:47.9993658;0.2303730999999516
X-APPLE-STRUCTURED-LOCATION;VALUE=URI;X-ADDRESS=67 rue Alfred de Vigny\, Le
  Mans\, France\, 72000\, Pays de Loire\, France;X-APPLE-RADIUS=100;X-TITLE
 =Maison de Quartier Charles Trénet:geo:47.9993658,0.2303730999999516
END:VEVENT
BEGIN:VTIMEZONE
TZID:Europe/Paris
X-LIC-LOCATION:Europe/Paris
BEGIN:STANDARD
DTSTART:20191027T020000
TZOFFSETFROM:+0200
TZOFFSETTO:+0100
TZNAME:CET
END:STANDARD
END:VTIMEZONE
END:VCALENDAR