BEGIN:VCALENDAR
VERSION:2.0
PRODID:-//wp-events-plugin.com//7.2.3.1//EN
TZID:Europe/Paris
X-WR-TIMEZONE:Europe/Paris
BEGIN:VEVENT
UID:565@dyspraxies.fr
DTSTART;TZID=Europe/Paris:20250911T170000
DTEND;TZID=Europe/Paris:20250911T190000
DTSTAMP:20250823T124051Z
URL:https://www.dyspraxies.fr/events/rencontre-dedicace-2/
SUMMARY:Rencontre Dédicace
DESCRIPTION:\n\n\n\n\n\n\nLa rentrée se prépare ! Elvire Cassan\, journal
 iste et auteure\, a la joie de venir Librairie Les Volcans le 11 septembre
 \, à 17h une soirée dédicace de son livre l'odyssée des #dys Editions 
 Stock. Elle sera accompagnée par les bénévoles région Auvergne Rhône-
 Alpes.\n\n\nIls vous attendent nombreux !\n\n\n\n\n\n\n
ATTACH;FMTTYPE=image/jpeg:https://www.dyspraxies.fr/wp-content/uploads/202
 5/08/rencontre-elvire-11.jpg
CATEGORIES:Rendez-vous en Auvergne-Rhone-Alpes
LOCATION:Librairie Les Volcans\, 80 bd François Mitterand\, Clermont-Ferra
 nd\, Auvergne\, 63000\, Puy-de-Dôme\, France
GEO:45.7797;3.0863
X-APPLE-STRUCTURED-LOCATION;VALUE=URI;X-ADDRESS=80 bd François Mitterand\,
  Clermont-Ferrand\, Auvergne\, 63000\, Puy-de-Dôme\, France;X-APPLE-RADIU
 S=100;X-TITLE=Librairie Les Volcans:geo:45.7797,3.0863
END:VEVENT
BEGIN:VTIMEZONE
TZID:Europe/Paris
X-LIC-LOCATION:Europe/Paris
BEGIN:DAYLIGHT
DTSTART:20250330T030000
TZOFFSETFROM:+0100
TZOFFSETTO:+0200
TZNAME:CEST
END:DAYLIGHT
END:VTIMEZONE
END:VCALENDAR