BEGIN:VCALENDAR
VERSION:2.0
PRODID:-//wp-events-plugin.com//7.2.3.1//EN
TZID:Europe/Paris
X-WR-TIMEZONE:Europe/Paris
BEGIN:VEVENT
UID:47@dyspraxies.fr
DTSTART;TZID=Europe/Paris:20170204T100000
DTEND;TZID=Europe/Paris:20170204T120000
DTSTAMP:20170201T211203Z
URL:https://www.dyspraxies.fr/events/rencontre-dys-mediatheque-dans-le-13/
SUMMARY:Rencontre DYS - médiathèque dans le 13
DESCRIPTION:Une matinée pour comprendre le quotidien d'un enfant "dys"\n\n
 De quoi parle-t-on ?\n\nComment l'aider ?\n\n\n\nSur inscription à la mé
 diathèque :\n\n04.42.62.33.34\nmediatheque-labouilladisse@wanadoo.fr
CATEGORIES:Rendez-vous en PACA
LOCATION:Médiathèque\, 22 Avenue de la Libération\, La Bouilladisse\, 13
 720 \, France
GEO:43.3942767;5.593847699999969
X-APPLE-STRUCTURED-LOCATION;VALUE=URI;X-ADDRESS=22 Avenue de la Libération
 \, La Bouilladisse\, 13720 \, France;X-APPLE-RADIUS=100;X-TITLE=Médiathè
 que:geo:43.3942767,5.593847699999969
END:VEVENT
BEGIN:VTIMEZONE
TZID:Europe/Paris
X-LIC-LOCATION:Europe/Paris
BEGIN:STANDARD
DTSTART:20161030T020000
TZOFFSETFROM:+0200
TZOFFSETTO:+0100
TZNAME:CET
END:STANDARD
END:VTIMEZONE
END:VCALENDAR