BEGIN:VCALENDAR
VERSION:2.0
PRODID:-//wp-events-plugin.com//7.2.3.1//EN
TZID:Europe/Paris
X-WR-TIMEZONE:Europe/Paris
BEGIN:VEVENT
UID:300@dyspraxies.fr
DTSTART;TZID=Europe/Paris:20210327T100000
DTEND;TZID=Europe/Paris:20210327T120000
DTSTAMP:20210317T100346Z
URL:https://www.dyspraxies.fr/events/visio-dfd-sur-le-permis-de-conduire/
SUMMARY:Visio DFD sur le permis de conduire
DESCRIPTION:\n\nDFD vous invite à assister à une nouvelle visioconférenc
 e sur le thème « Permis de conduire et dyspraxie » le samedi 27 mars
  de 10h à 12h (connexion dès 9h45 pour démarrer à 10h).\n\nVous pourre
 z poser vos questions sur l’apprentissage et les épreuves du code de la
  route et de la conduite à cette occasion.\n\nDFD vous informera des trav
 aux menés par l’association sur le sujet et vous donnera toute informat
 ion utile.\n\nMerci de vous inscrire sur le lien suivant (Google Form) : 
 https://docs.google.com/forms/d/1Mc7nrgfVLo-h-XIg2gTRISOec4nZlVwzsiepia1E6
 mM/edit\n\nAttention : places limitées (les bénévoles et adhérents ont
  déjà pu s’inscrire)\, inscriptions dans l’ordre d’arrivée. DFD v
 ous enverra le lien de connexion à la visio-conférence le vendredi 26 ma
 rs.
ATTACH;FMTTYPE=image/jpeg:https://www.dyspraxies.fr/wp-content/uploads/202
 1/03/Visio-permis.png
CATEGORIES:Rendez-vous national
LOCATION:https://docs.google.com/forms/d/1Mc7nrgfVLo-h-XIg2gTRISOec4nZlVwzs
 iepia1E6mM/edit
END:VEVENT
BEGIN:VTIMEZONE
TZID:Europe/Paris
X-LIC-LOCATION:Europe/Paris
BEGIN:STANDARD
DTSTART:20201025T020000
TZOFFSETFROM:+0200
TZOFFSETTO:+0100
TZNAME:CET
END:STANDARD
END:VTIMEZONE
END:VCALENDAR